BEGIN:VCALENDAR
VERSION:2.0
PRODID:-//The Pump House Project - ECPv6.15.20//NONSGML v1.0//EN
CALSCALE:GREGORIAN
METHOD:PUBLISH
X-ORIGINAL-URL:https://thepumphouseproject.org.uk
X-WR-CALDESC:Events for The Pump House Project
REFRESH-INTERVAL;VALUE=DURATION:PT1H
X-Robots-Tag:noindex
X-PUBLISHED-TTL:PT1H
BEGIN:VTIMEZONE
TZID:UTC
BEGIN:STANDARD
TZOFFSETFROM:+0000
TZOFFSETTO:+0000
TZNAME:UTC
DTSTART:20240101T000000
END:STANDARD
END:VTIMEZONE
BEGIN:VEVENT
DTSTART;TZID=UTC:20250814T103000
DTEND;TZID=UTC:20250814T231500
DTSTAMP:20260420T154546
CREATED:20250807T152000Z
LAST-MODIFIED:20250808T083704Z
UID:10000208-1755167400-1755213300@thepumphouseproject.org.uk
SUMMARY:Balance\, Strength and Wellbeing
DESCRIPTION:Classes run on a Thursday morning from 10.30-11.15 here at The Pump House Project. Led by the lovely Dot and for over 60’s or those with long term health conditions this class is designed for those with mobility or balance issues or those that just want to keep fit without overdoing it! \nThere is a fee to pay but this is a drop in so if you are interested in seeing what it entails please do drop in and watch or take part!
URL:https://thepumphouseproject.org.uk/event/balance-strength-and-wellbeing/2025-08-14/
LOCATION:The Pump House Project\, The Pump House Project\, Faringdon\, SN77AF\, United Kingdom
ATTACH;FMTTYPE=image/jpeg:https://thepumphouseproject.org.uk/wp-content/uploads/2025/05/Balance_Strength_and_Wellbeing_Poster_with_reduced_cost_for_Jan-Oct_25.jpg
END:VEVENT
END:VCALENDAR