BEGIN:VCALENDAR
VERSION:2.0
PRODID:-//The Pump House Project - ECPv6.15.20//NONSGML v1.0//EN
CALSCALE:GREGORIAN
METHOD:PUBLISH
X-WR-CALNAME:The Pump House Project
X-ORIGINAL-URL:https://thepumphouseproject.org.uk
X-WR-CALDESC:Events for The Pump House Project
REFRESH-INTERVAL;VALUE=DURATION:PT1H
X-Robots-Tag:noindex
X-PUBLISHED-TTL:PT1H
BEGIN:VTIMEZONE
TZID:UTC
BEGIN:STANDARD
TZOFFSETFROM:+0000
TZOFFSETTO:+0000
TZNAME:UTC
DTSTART:20240101T000000
END:STANDARD
END:VTIMEZONE
BEGIN:VEVENT
DTSTART;TZID=UTC:20251011T100000
DTEND;TZID=UTC:20251011T160000
DTSTAMP:20260420T125943
CREATED:20250807T150548Z
LAST-MODIFIED:20250924T074457Z
UID:10001010-1760176800-1760198400@thepumphouseproject.org.uk
SUMMARY:Urban Movement Academy
DESCRIPTION:Parkour classes\, every Saturday during term time.
URL:https://thepumphouseproject.org.uk/event/urban-movement-academy-2/2025-10-11/
LOCATION:The Pump House Project\, The Pump House Project\, Faringdon\, SN77AF\, United Kingdom
ATTACH;FMTTYPE=image/jpeg:https://thepumphouseproject.org.uk/wp-content/uploads/2025/05/UMA_Free_Assessment_Session_and_times.jpg
END:VEVENT
END:VCALENDAR