BEGIN:VCALENDAR
VERSION:2.0
PRODID:-//The Pump House Project - ECPv6.15.20//NONSGML v1.0//EN
CALSCALE:GREGORIAN
METHOD:PUBLISH
X-ORIGINAL-URL:https://thepumphouseproject.org.uk
X-WR-CALDESC:Events for The Pump House Project
REFRESH-INTERVAL;VALUE=DURATION:PT1H
X-Robots-Tag:noindex
X-PUBLISHED-TTL:PT1H
BEGIN:VTIMEZONE
TZID:UTC
BEGIN:STANDARD
TZOFFSETFROM:+0000
TZOFFSETTO:+0000
TZNAME:UTC
DTSTART:20260101T000000
END:STANDARD
END:VTIMEZONE
BEGIN:VEVENT
DTSTART;TZID=UTC:20271213T183000
DTEND;TZID=UTC:20271213T193000
DTSTAMP:20260423T102509
CREATED:20260302T143058Z
LAST-MODIFIED:20260302T143427Z
UID:10001112-1828722600-1828726200@thepumphouseproject.org.uk
SUMMARY:Konga
DESCRIPTION:Mondays\, 19:30 – 20:30 Term time.
URL:https://thepumphouseproject.org.uk/event/konga-2/2027-12-13/
LOCATION:The Pump House Project\, The Pump House Project\, Faringdon\, SN77AF\, United Kingdom
ATTACH;FMTTYPE=image/jpeg:https://thepumphouseproject.org.uk/wp-content/uploads/2025/08/2026-konga-poster.jpg
END:VEVENT
BEGIN:VEVENT
DTSTART;TZID=UTC:20271214T093000
DTEND;TZID=UTC:20271214T113000
DTSTAMP:20260423T102509
CREATED:20260311T093602Z
LAST-MODIFIED:20260311T093625Z
UID:10002416-1828776600-1828783800@thepumphouseproject.org.uk
SUMMARY:Cake Cafe
DESCRIPTION:
URL:https://thepumphouseproject.org.uk/event/cake-cafe-4-2/2027-12-14/
LOCATION:The Pump House Project\, The Pump House Project\, Faringdon\, SN77AF\, United Kingdom
ATTACH;FMTTYPE=image/png:https://thepumphouseproject.org.uk/wp-content/uploads/2025/05/2026-cake-cafe.png
END:VEVENT
BEGIN:VEVENT
DTSTART;TZID=UTC:20271215T184500
DTEND;TZID=UTC:20271215T211500
DTSTAMP:20260423T102509
CREATED:20250813T122652Z
LAST-MODIFIED:20250813T122712Z
UID:10000684-1828896300-1828905300@thepumphouseproject.org.uk
SUMMARY:Rise and Line
DESCRIPTION:18:45 – 19:40 (Absolute beginners)\n19:45 – 21:15 (Beginner/Improver) \nYou can see all of Vikki’s classes here.
URL:https://thepumphouseproject.org.uk/event/rise-and-line/2027-12-15/
LOCATION:The Pump House Project\, The Pump House Project\, Faringdon\, SN77AF\, United Kingdom
ATTACH;FMTTYPE=image/png:https://thepumphouseproject.org.uk/wp-content/uploads/2025/08/image.png
END:VEVENT
BEGIN:VEVENT
DTSTART;TZID=UTC:20271218T100000
DTEND;TZID=UTC:20271218T143000
DTSTAMP:20260423T102509
CREATED:20260302T154004Z
LAST-MODIFIED:20260303T092642Z
UID:10001375-1829124000-1829140200@thepumphouseproject.org.uk
SUMMARY:Urban Movement Academy
DESCRIPTION:Parkour classes\, every Saturday during term time. \nUrban Movement Academy\nFounded in 2014\, Urban Movement Academy is a movement-based training programme dedicated to helping young people develop confidence\, strength\, creativity\, and physical literacy. We are proud to have been part of the lives of many children and families in our local and surrounding communities over the years. \nOur sessions combine elements of athletics\, gymnastics\, and obstacle navigation\, encouraging students to move efficiently\, creatively\, and safely within their environment. \nWe teach participants how to use their bodies to overcome physical challenges such as walls\, rails\, and obstacles using techniques including running\, jumping\, vaulting\, climbing\, rolling\, and controlled landings. Alongside this\, students are introduced to expressive and acrobatic movements that promote fluidity\, coordination\, and self-expression. \nAge Range\nUrban Movement Academy sessions are suitable for children and young people aged 5–18 years. \nUrban Movement Academy is a movement-based training programme dedicated to helping young people develop confidence\nSession Times & Fees\nSessions are priced between £8–£12 per week\, payable termly in advance. \nGroup 1: 10:00 – 11:00\n£8 per session\nGroup 2: 11:00 – 12:30\n£12 per session\nGroup 3: 13:00 – 14:30\n£12 per session
URL:https://thepumphouseproject.org.uk/event/urban-movement-academy-2-2/2027-12-18/
LOCATION:The Pump House Project\, The Pump House Project\, Faringdon\, SN77AF\, United Kingdom
ATTACH;FMTTYPE=image/png:https://thepumphouseproject.org.uk/wp-content/uploads/2026/01/Urban-Movement-Academy-Poster-26_01.png
END:VEVENT
BEGIN:VEVENT
DTSTART;TZID=UTC:20271220T183000
DTEND;TZID=UTC:20271220T193000
DTSTAMP:20260423T102509
CREATED:20260302T143058Z
LAST-MODIFIED:20260302T143427Z
UID:10001113-1829327400-1829331000@thepumphouseproject.org.uk
SUMMARY:Konga
DESCRIPTION:Mondays\, 19:30 – 20:30 Term time.
URL:https://thepumphouseproject.org.uk/event/konga-2/2027-12-20/
LOCATION:The Pump House Project\, The Pump House Project\, Faringdon\, SN77AF\, United Kingdom
ATTACH;FMTTYPE=image/jpeg:https://thepumphouseproject.org.uk/wp-content/uploads/2025/08/2026-konga-poster.jpg
END:VEVENT
BEGIN:VEVENT
DTSTART;TZID=UTC:20271221T093000
DTEND;TZID=UTC:20271221T113000
DTSTAMP:20260423T102509
CREATED:20260311T093602Z
LAST-MODIFIED:20260311T093625Z
UID:10002417-1829381400-1829388600@thepumphouseproject.org.uk
SUMMARY:Cake Cafe
DESCRIPTION:
URL:https://thepumphouseproject.org.uk/event/cake-cafe-4-2/2027-12-21/
LOCATION:The Pump House Project\, The Pump House Project\, Faringdon\, SN77AF\, United Kingdom
ATTACH;FMTTYPE=image/png:https://thepumphouseproject.org.uk/wp-content/uploads/2025/05/2026-cake-cafe.png
END:VEVENT
BEGIN:VEVENT
DTSTART;TZID=UTC:20271222T130000
DTEND;TZID=UTC:20271222T153000
DTSTAMP:20260423T102509
CREATED:20250813T122229Z
LAST-MODIFIED:20250813T122259Z
UID:10000364-1829480400-1829489400@thepumphouseproject.org.uk
SUMMARY:Turning Point
DESCRIPTION:Fortnightly on Wednesday’s 13:00 – 15:30
URL:https://thepumphouseproject.org.uk/event/turning-point/2027-12-22/
LOCATION:The Pump House Project\, The Pump House Project\, Faringdon\, SN77AF\, United Kingdom
ATTACH;FMTTYPE=image/png:https://thepumphouseproject.org.uk/wp-content/uploads/2025/08/image005.png
END:VEVENT
BEGIN:VEVENT
DTSTART;TZID=UTC:20271222T184500
DTEND;TZID=UTC:20271222T211500
DTSTAMP:20260423T102509
CREATED:20250813T122652Z
LAST-MODIFIED:20250813T122712Z
UID:10000685-1829501100-1829510100@thepumphouseproject.org.uk
SUMMARY:Rise and Line
DESCRIPTION:18:45 – 19:40 (Absolute beginners)\n19:45 – 21:15 (Beginner/Improver) \nYou can see all of Vikki’s classes here.
URL:https://thepumphouseproject.org.uk/event/rise-and-line/2027-12-22/
LOCATION:The Pump House Project\, The Pump House Project\, Faringdon\, SN77AF\, United Kingdom
ATTACH;FMTTYPE=image/png:https://thepumphouseproject.org.uk/wp-content/uploads/2025/08/image.png
END:VEVENT
BEGIN:VEVENT
DTSTART;TZID=UTC:20271225T100000
DTEND;TZID=UTC:20271225T143000
DTSTAMP:20260423T102509
CREATED:20260302T154004Z
LAST-MODIFIED:20260303T092642Z
UID:10001376-1829728800-1829745000@thepumphouseproject.org.uk
SUMMARY:Urban Movement Academy
DESCRIPTION:Parkour classes\, every Saturday during term time. \nUrban Movement Academy\nFounded in 2014\, Urban Movement Academy is a movement-based training programme dedicated to helping young people develop confidence\, strength\, creativity\, and physical literacy. We are proud to have been part of the lives of many children and families in our local and surrounding communities over the years. \nOur sessions combine elements of athletics\, gymnastics\, and obstacle navigation\, encouraging students to move efficiently\, creatively\, and safely within their environment. \nWe teach participants how to use their bodies to overcome physical challenges such as walls\, rails\, and obstacles using techniques including running\, jumping\, vaulting\, climbing\, rolling\, and controlled landings. Alongside this\, students are introduced to expressive and acrobatic movements that promote fluidity\, coordination\, and self-expression. \nAge Range\nUrban Movement Academy sessions are suitable for children and young people aged 5–18 years. \nUrban Movement Academy is a movement-based training programme dedicated to helping young people develop confidence\nSession Times & Fees\nSessions are priced between £8–£12 per week\, payable termly in advance. \nGroup 1: 10:00 – 11:00\n£8 per session\nGroup 2: 11:00 – 12:30\n£12 per session\nGroup 3: 13:00 – 14:30\n£12 per session
URL:https://thepumphouseproject.org.uk/event/urban-movement-academy-2-2/2027-12-25/
LOCATION:The Pump House Project\, The Pump House Project\, Faringdon\, SN77AF\, United Kingdom
ATTACH;FMTTYPE=image/png:https://thepumphouseproject.org.uk/wp-content/uploads/2026/01/Urban-Movement-Academy-Poster-26_01.png
END:VEVENT
BEGIN:VEVENT
DTSTART;TZID=UTC:20271227T183000
DTEND;TZID=UTC:20271227T193000
DTSTAMP:20260423T102509
CREATED:20260302T143058Z
LAST-MODIFIED:20260302T143427Z
UID:10001114-1829932200-1829935800@thepumphouseproject.org.uk
SUMMARY:Konga
DESCRIPTION:Mondays\, 19:30 – 20:30 Term time.
URL:https://thepumphouseproject.org.uk/event/konga-2/2027-12-27/
LOCATION:The Pump House Project\, The Pump House Project\, Faringdon\, SN77AF\, United Kingdom
ATTACH;FMTTYPE=image/jpeg:https://thepumphouseproject.org.uk/wp-content/uploads/2025/08/2026-konga-poster.jpg
END:VEVENT
BEGIN:VEVENT
DTSTART;TZID=UTC:20271228T093000
DTEND;TZID=UTC:20271228T113000
DTSTAMP:20260423T102509
CREATED:20260311T093602Z
LAST-MODIFIED:20260311T093625Z
UID:10002418-1829986200-1829993400@thepumphouseproject.org.uk
SUMMARY:Cake Cafe
DESCRIPTION:
URL:https://thepumphouseproject.org.uk/event/cake-cafe-4-2/2027-12-28/
LOCATION:The Pump House Project\, The Pump House Project\, Faringdon\, SN77AF\, United Kingdom
ATTACH;FMTTYPE=image/png:https://thepumphouseproject.org.uk/wp-content/uploads/2025/05/2026-cake-cafe.png
END:VEVENT
BEGIN:VEVENT
DTSTART;TZID=UTC:20271229T184500
DTEND;TZID=UTC:20271229T211500
DTSTAMP:20260423T102509
CREATED:20250813T122652Z
LAST-MODIFIED:20250813T122712Z
UID:10000686-1830105900-1830114900@thepumphouseproject.org.uk
SUMMARY:Rise and Line
DESCRIPTION:18:45 – 19:40 (Absolute beginners)\n19:45 – 21:15 (Beginner/Improver) \nYou can see all of Vikki’s classes here.
URL:https://thepumphouseproject.org.uk/event/rise-and-line/2027-12-29/
LOCATION:The Pump House Project\, The Pump House Project\, Faringdon\, SN77AF\, United Kingdom
ATTACH;FMTTYPE=image/png:https://thepumphouseproject.org.uk/wp-content/uploads/2025/08/image.png
END:VEVENT
BEGIN:VEVENT
DTSTART;TZID=UTC:20280101T100000
DTEND;TZID=UTC:20280101T143000
DTSTAMP:20260423T102509
CREATED:20260302T154004Z
LAST-MODIFIED:20260303T092642Z
UID:10001377-1830333600-1830349800@thepumphouseproject.org.uk
SUMMARY:Urban Movement Academy
DESCRIPTION:Parkour classes\, every Saturday during term time. \nUrban Movement Academy\nFounded in 2014\, Urban Movement Academy is a movement-based training programme dedicated to helping young people develop confidence\, strength\, creativity\, and physical literacy. We are proud to have been part of the lives of many children and families in our local and surrounding communities over the years. \nOur sessions combine elements of athletics\, gymnastics\, and obstacle navigation\, encouraging students to move efficiently\, creatively\, and safely within their environment. \nWe teach participants how to use their bodies to overcome physical challenges such as walls\, rails\, and obstacles using techniques including running\, jumping\, vaulting\, climbing\, rolling\, and controlled landings. Alongside this\, students are introduced to expressive and acrobatic movements that promote fluidity\, coordination\, and self-expression. \nAge Range\nUrban Movement Academy sessions are suitable for children and young people aged 5–18 years. \nUrban Movement Academy is a movement-based training programme dedicated to helping young people develop confidence\nSession Times & Fees\nSessions are priced between £8–£12 per week\, payable termly in advance. \nGroup 1: 10:00 – 11:00\n£8 per session\nGroup 2: 11:00 – 12:30\n£12 per session\nGroup 3: 13:00 – 14:30\n£12 per session
URL:https://thepumphouseproject.org.uk/event/urban-movement-academy-2-2/2028-01-01/
LOCATION:The Pump House Project\, The Pump House Project\, Faringdon\, SN77AF\, United Kingdom
ATTACH;FMTTYPE=image/png:https://thepumphouseproject.org.uk/wp-content/uploads/2026/01/Urban-Movement-Academy-Poster-26_01.png
END:VEVENT
BEGIN:VEVENT
DTSTART;TZID=UTC:20280103T183000
DTEND;TZID=UTC:20280103T193000
DTSTAMP:20260423T102509
CREATED:20260302T143058Z
LAST-MODIFIED:20260302T143427Z
UID:10001115-1830537000-1830540600@thepumphouseproject.org.uk
SUMMARY:Konga
DESCRIPTION:Mondays\, 19:30 – 20:30 Term time.
URL:https://thepumphouseproject.org.uk/event/konga-2/2028-01-03/
LOCATION:The Pump House Project\, The Pump House Project\, Faringdon\, SN77AF\, United Kingdom
ATTACH;FMTTYPE=image/jpeg:https://thepumphouseproject.org.uk/wp-content/uploads/2025/08/2026-konga-poster.jpg
END:VEVENT
BEGIN:VEVENT
DTSTART;TZID=UTC:20280104T093000
DTEND;TZID=UTC:20280104T113000
DTSTAMP:20260423T102509
CREATED:20260311T093602Z
LAST-MODIFIED:20260311T093625Z
UID:10002419-1830591000-1830598200@thepumphouseproject.org.uk
SUMMARY:Cake Cafe
DESCRIPTION:
URL:https://thepumphouseproject.org.uk/event/cake-cafe-4-2/2028-01-04/
LOCATION:The Pump House Project\, The Pump House Project\, Faringdon\, SN77AF\, United Kingdom
ATTACH;FMTTYPE=image/png:https://thepumphouseproject.org.uk/wp-content/uploads/2025/05/2026-cake-cafe.png
END:VEVENT
BEGIN:VEVENT
DTSTART;TZID=UTC:20280105T130000
DTEND;TZID=UTC:20280105T153000
DTSTAMP:20260423T102509
CREATED:20250813T122229Z
LAST-MODIFIED:20250813T122259Z
UID:10000365-1830690000-1830699000@thepumphouseproject.org.uk
SUMMARY:Turning Point
DESCRIPTION:Fortnightly on Wednesday’s 13:00 – 15:30
URL:https://thepumphouseproject.org.uk/event/turning-point/2028-01-05/
LOCATION:The Pump House Project\, The Pump House Project\, Faringdon\, SN77AF\, United Kingdom
ATTACH;FMTTYPE=image/png:https://thepumphouseproject.org.uk/wp-content/uploads/2025/08/image005.png
END:VEVENT
BEGIN:VEVENT
DTSTART;TZID=UTC:20280105T184500
DTEND;TZID=UTC:20280105T211500
DTSTAMP:20260423T102509
CREATED:20250813T122652Z
LAST-MODIFIED:20250813T122712Z
UID:10000687-1830710700-1830719700@thepumphouseproject.org.uk
SUMMARY:Rise and Line
DESCRIPTION:18:45 – 19:40 (Absolute beginners)\n19:45 – 21:15 (Beginner/Improver) \nYou can see all of Vikki’s classes here.
URL:https://thepumphouseproject.org.uk/event/rise-and-line/2028-01-05/
LOCATION:The Pump House Project\, The Pump House Project\, Faringdon\, SN77AF\, United Kingdom
ATTACH;FMTTYPE=image/png:https://thepumphouseproject.org.uk/wp-content/uploads/2025/08/image.png
END:VEVENT
BEGIN:VEVENT
DTSTART;TZID=UTC:20280108T100000
DTEND;TZID=UTC:20280108T143000
DTSTAMP:20260423T102509
CREATED:20260302T154004Z
LAST-MODIFIED:20260303T092642Z
UID:10001378-1830938400-1830954600@thepumphouseproject.org.uk
SUMMARY:Urban Movement Academy
DESCRIPTION:Parkour classes\, every Saturday during term time. \nUrban Movement Academy\nFounded in 2014\, Urban Movement Academy is a movement-based training programme dedicated to helping young people develop confidence\, strength\, creativity\, and physical literacy. We are proud to have been part of the lives of many children and families in our local and surrounding communities over the years. \nOur sessions combine elements of athletics\, gymnastics\, and obstacle navigation\, encouraging students to move efficiently\, creatively\, and safely within their environment. \nWe teach participants how to use their bodies to overcome physical challenges such as walls\, rails\, and obstacles using techniques including running\, jumping\, vaulting\, climbing\, rolling\, and controlled landings. Alongside this\, students are introduced to expressive and acrobatic movements that promote fluidity\, coordination\, and self-expression. \nAge Range\nUrban Movement Academy sessions are suitable for children and young people aged 5–18 years. \nUrban Movement Academy is a movement-based training programme dedicated to helping young people develop confidence\nSession Times & Fees\nSessions are priced between £8–£12 per week\, payable termly in advance. \nGroup 1: 10:00 – 11:00\n£8 per session\nGroup 2: 11:00 – 12:30\n£12 per session\nGroup 3: 13:00 – 14:30\n£12 per session
URL:https://thepumphouseproject.org.uk/event/urban-movement-academy-2-2/2028-01-08/
LOCATION:The Pump House Project\, The Pump House Project\, Faringdon\, SN77AF\, United Kingdom
ATTACH;FMTTYPE=image/png:https://thepumphouseproject.org.uk/wp-content/uploads/2026/01/Urban-Movement-Academy-Poster-26_01.png
END:VEVENT
BEGIN:VEVENT
DTSTART;TZID=UTC:20280110T183000
DTEND;TZID=UTC:20280110T193000
DTSTAMP:20260423T102509
CREATED:20260302T143058Z
LAST-MODIFIED:20260302T143427Z
UID:10001116-1831141800-1831145400@thepumphouseproject.org.uk
SUMMARY:Konga
DESCRIPTION:Mondays\, 19:30 – 20:30 Term time.
URL:https://thepumphouseproject.org.uk/event/konga-2/2028-01-10/
LOCATION:The Pump House Project\, The Pump House Project\, Faringdon\, SN77AF\, United Kingdom
ATTACH;FMTTYPE=image/jpeg:https://thepumphouseproject.org.uk/wp-content/uploads/2025/08/2026-konga-poster.jpg
END:VEVENT
BEGIN:VEVENT
DTSTART;TZID=UTC:20280111T093000
DTEND;TZID=UTC:20280111T113000
DTSTAMP:20260423T102509
CREATED:20260311T093602Z
LAST-MODIFIED:20260311T093625Z
UID:10002420-1831195800-1831203000@thepumphouseproject.org.uk
SUMMARY:Cake Cafe
DESCRIPTION:
URL:https://thepumphouseproject.org.uk/event/cake-cafe-4-2/2028-01-11/
LOCATION:The Pump House Project\, The Pump House Project\, Faringdon\, SN77AF\, United Kingdom
ATTACH;FMTTYPE=image/png:https://thepumphouseproject.org.uk/wp-content/uploads/2025/05/2026-cake-cafe.png
END:VEVENT
BEGIN:VEVENT
DTSTART;TZID=UTC:20280112T184500
DTEND;TZID=UTC:20280112T211500
DTSTAMP:20260423T102509
CREATED:20250813T122652Z
LAST-MODIFIED:20250813T122712Z
UID:10000688-1831315500-1831324500@thepumphouseproject.org.uk
SUMMARY:Rise and Line
DESCRIPTION:18:45 – 19:40 (Absolute beginners)\n19:45 – 21:15 (Beginner/Improver) \nYou can see all of Vikki’s classes here.
URL:https://thepumphouseproject.org.uk/event/rise-and-line/2028-01-12/
LOCATION:The Pump House Project\, The Pump House Project\, Faringdon\, SN77AF\, United Kingdom
ATTACH;FMTTYPE=image/png:https://thepumphouseproject.org.uk/wp-content/uploads/2025/08/image.png
END:VEVENT
BEGIN:VEVENT
DTSTART;TZID=UTC:20280115T100000
DTEND;TZID=UTC:20280115T143000
DTSTAMP:20260423T102509
CREATED:20260302T154004Z
LAST-MODIFIED:20260303T092642Z
UID:10001379-1831543200-1831559400@thepumphouseproject.org.uk
SUMMARY:Urban Movement Academy
DESCRIPTION:Parkour classes\, every Saturday during term time. \nUrban Movement Academy\nFounded in 2014\, Urban Movement Academy is a movement-based training programme dedicated to helping young people develop confidence\, strength\, creativity\, and physical literacy. We are proud to have been part of the lives of many children and families in our local and surrounding communities over the years. \nOur sessions combine elements of athletics\, gymnastics\, and obstacle navigation\, encouraging students to move efficiently\, creatively\, and safely within their environment. \nWe teach participants how to use their bodies to overcome physical challenges such as walls\, rails\, and obstacles using techniques including running\, jumping\, vaulting\, climbing\, rolling\, and controlled landings. Alongside this\, students are introduced to expressive and acrobatic movements that promote fluidity\, coordination\, and self-expression. \nAge Range\nUrban Movement Academy sessions are suitable for children and young people aged 5–18 years. \nUrban Movement Academy is a movement-based training programme dedicated to helping young people develop confidence\nSession Times & Fees\nSessions are priced between £8–£12 per week\, payable termly in advance. \nGroup 1: 10:00 – 11:00\n£8 per session\nGroup 2: 11:00 – 12:30\n£12 per session\nGroup 3: 13:00 – 14:30\n£12 per session
URL:https://thepumphouseproject.org.uk/event/urban-movement-academy-2-2/2028-01-15/
LOCATION:The Pump House Project\, The Pump House Project\, Faringdon\, SN77AF\, United Kingdom
ATTACH;FMTTYPE=image/png:https://thepumphouseproject.org.uk/wp-content/uploads/2026/01/Urban-Movement-Academy-Poster-26_01.png
END:VEVENT
BEGIN:VEVENT
DTSTART;TZID=UTC:20280117T183000
DTEND;TZID=UTC:20280117T193000
DTSTAMP:20260423T102509
CREATED:20260302T143058Z
LAST-MODIFIED:20260302T143427Z
UID:10001117-1831746600-1831750200@thepumphouseproject.org.uk
SUMMARY:Konga
DESCRIPTION:Mondays\, 19:30 – 20:30 Term time.
URL:https://thepumphouseproject.org.uk/event/konga-2/2028-01-17/
LOCATION:The Pump House Project\, The Pump House Project\, Faringdon\, SN77AF\, United Kingdom
ATTACH;FMTTYPE=image/jpeg:https://thepumphouseproject.org.uk/wp-content/uploads/2025/08/2026-konga-poster.jpg
END:VEVENT
BEGIN:VEVENT
DTSTART;TZID=UTC:20280118T093000
DTEND;TZID=UTC:20280118T113000
DTSTAMP:20260423T102509
CREATED:20260311T093602Z
LAST-MODIFIED:20260311T093625Z
UID:10002421-1831800600-1831807800@thepumphouseproject.org.uk
SUMMARY:Cake Cafe
DESCRIPTION:
URL:https://thepumphouseproject.org.uk/event/cake-cafe-4-2/2028-01-18/
LOCATION:The Pump House Project\, The Pump House Project\, Faringdon\, SN77AF\, United Kingdom
ATTACH;FMTTYPE=image/png:https://thepumphouseproject.org.uk/wp-content/uploads/2025/05/2026-cake-cafe.png
END:VEVENT
BEGIN:VEVENT
DTSTART;TZID=UTC:20280119T130000
DTEND;TZID=UTC:20280119T153000
DTSTAMP:20260423T102509
CREATED:20250813T122229Z
LAST-MODIFIED:20250813T122259Z
UID:10000366-1831899600-1831908600@thepumphouseproject.org.uk
SUMMARY:Turning Point
DESCRIPTION:Fortnightly on Wednesday’s 13:00 – 15:30
URL:https://thepumphouseproject.org.uk/event/turning-point/2028-01-19/
LOCATION:The Pump House Project\, The Pump House Project\, Faringdon\, SN77AF\, United Kingdom
ATTACH;FMTTYPE=image/png:https://thepumphouseproject.org.uk/wp-content/uploads/2025/08/image005.png
END:VEVENT
BEGIN:VEVENT
DTSTART;TZID=UTC:20280119T184500
DTEND;TZID=UTC:20280119T211500
DTSTAMP:20260423T102509
CREATED:20250813T122652Z
LAST-MODIFIED:20250813T122712Z
UID:10000689-1831920300-1831929300@thepumphouseproject.org.uk
SUMMARY:Rise and Line
DESCRIPTION:18:45 – 19:40 (Absolute beginners)\n19:45 – 21:15 (Beginner/Improver) \nYou can see all of Vikki’s classes here.
URL:https://thepumphouseproject.org.uk/event/rise-and-line/2028-01-19/
LOCATION:The Pump House Project\, The Pump House Project\, Faringdon\, SN77AF\, United Kingdom
ATTACH;FMTTYPE=image/png:https://thepumphouseproject.org.uk/wp-content/uploads/2025/08/image.png
END:VEVENT
BEGIN:VEVENT
DTSTART;TZID=UTC:20280122T100000
DTEND;TZID=UTC:20280122T143000
DTSTAMP:20260423T102509
CREATED:20260302T154004Z
LAST-MODIFIED:20260303T092642Z
UID:10001380-1832148000-1832164200@thepumphouseproject.org.uk
SUMMARY:Urban Movement Academy
DESCRIPTION:Parkour classes\, every Saturday during term time. \nUrban Movement Academy\nFounded in 2014\, Urban Movement Academy is a movement-based training programme dedicated to helping young people develop confidence\, strength\, creativity\, and physical literacy. We are proud to have been part of the lives of many children and families in our local and surrounding communities over the years. \nOur sessions combine elements of athletics\, gymnastics\, and obstacle navigation\, encouraging students to move efficiently\, creatively\, and safely within their environment. \nWe teach participants how to use their bodies to overcome physical challenges such as walls\, rails\, and obstacles using techniques including running\, jumping\, vaulting\, climbing\, rolling\, and controlled landings. Alongside this\, students are introduced to expressive and acrobatic movements that promote fluidity\, coordination\, and self-expression. \nAge Range\nUrban Movement Academy sessions are suitable for children and young people aged 5–18 years. \nUrban Movement Academy is a movement-based training programme dedicated to helping young people develop confidence\nSession Times & Fees\nSessions are priced between £8–£12 per week\, payable termly in advance. \nGroup 1: 10:00 – 11:00\n£8 per session\nGroup 2: 11:00 – 12:30\n£12 per session\nGroup 3: 13:00 – 14:30\n£12 per session
URL:https://thepumphouseproject.org.uk/event/urban-movement-academy-2-2/2028-01-22/
LOCATION:The Pump House Project\, The Pump House Project\, Faringdon\, SN77AF\, United Kingdom
ATTACH;FMTTYPE=image/png:https://thepumphouseproject.org.uk/wp-content/uploads/2026/01/Urban-Movement-Academy-Poster-26_01.png
END:VEVENT
BEGIN:VEVENT
DTSTART;TZID=UTC:20280124T183000
DTEND;TZID=UTC:20280124T193000
DTSTAMP:20260423T102509
CREATED:20260302T143058Z
LAST-MODIFIED:20260302T143427Z
UID:10001118-1832351400-1832355000@thepumphouseproject.org.uk
SUMMARY:Konga
DESCRIPTION:Mondays\, 19:30 – 20:30 Term time.
URL:https://thepumphouseproject.org.uk/event/konga-2/2028-01-24/
LOCATION:The Pump House Project\, The Pump House Project\, Faringdon\, SN77AF\, United Kingdom
ATTACH;FMTTYPE=image/jpeg:https://thepumphouseproject.org.uk/wp-content/uploads/2025/08/2026-konga-poster.jpg
END:VEVENT
BEGIN:VEVENT
DTSTART;TZID=UTC:20280125T093000
DTEND;TZID=UTC:20280125T113000
DTSTAMP:20260423T102509
CREATED:20260311T093602Z
LAST-MODIFIED:20260311T093625Z
UID:10002422-1832405400-1832412600@thepumphouseproject.org.uk
SUMMARY:Cake Cafe
DESCRIPTION:
URL:https://thepumphouseproject.org.uk/event/cake-cafe-4-2/2028-01-25/
LOCATION:The Pump House Project\, The Pump House Project\, Faringdon\, SN77AF\, United Kingdom
ATTACH;FMTTYPE=image/png:https://thepumphouseproject.org.uk/wp-content/uploads/2025/05/2026-cake-cafe.png
END:VEVENT
BEGIN:VEVENT
DTSTART;TZID=UTC:20280126T184500
DTEND;TZID=UTC:20280126T211500
DTSTAMP:20260423T102509
CREATED:20250813T122652Z
LAST-MODIFIED:20250813T122712Z
UID:10000690-1832525100-1832534100@thepumphouseproject.org.uk
SUMMARY:Rise and Line
DESCRIPTION:18:45 – 19:40 (Absolute beginners)\n19:45 – 21:15 (Beginner/Improver) \nYou can see all of Vikki’s classes here.
URL:https://thepumphouseproject.org.uk/event/rise-and-line/2028-01-26/
LOCATION:The Pump House Project\, The Pump House Project\, Faringdon\, SN77AF\, United Kingdom
ATTACH;FMTTYPE=image/png:https://thepumphouseproject.org.uk/wp-content/uploads/2025/08/image.png
END:VEVENT
END:VCALENDAR